BEGIN:VCALENDAR
VERSION:2.0
PRODID:-//Tukios.com/
BEGIN:VEVENT
UID:edc5240f-678a-4713-98ef-1edb0f7f12dd@www.weathersbeerayfh.com
DTSTAMP:20260422T170314Z
DTSTART:20260424T180000Z
DTEND:20260424T190000Z
SUMMARY:Visitation
DESCRIPTION:
URL:https://www.weathersbeerayfh.com/obituaries/barbara-phillips
LOCATION: 1701 S 1st St  Roby TX 79543
GEO:32.744799;-100.3800353
END:VEVENT
END:VCALENDAR