BEGIN:VCALENDAR
VERSION:2.0
PRODID:-//Tukios.com/
BEGIN:VEVENT
UID:424e3c18-ac2a-4b07-acd7-ef51610fb32d@www.weathersbeerayfh.com
DTSTAMP:20260422T170329Z
DTSTART:20260424T190000Z
DTEND:20260424T200000Z
SUMMARY:Funeral Service
DESCRIPTION:
URL:https://www.weathersbeerayfh.com/obituaries/barbara-phillips
LOCATION: 1701 S 1st St  Roby TX 79543
GEO:32.744799;-100.3800353
END:VEVENT
END:VCALENDAR