BEGIN:VCALENDAR
VERSION:2.0
PRODID:-//Tukios.com/
BEGIN:VEVENT
UID:2efb1356-508a-48e9-9c72-bb57009ab2d4@www.weathersbeerayfh.com
DTSTAMP:20260422T170253Z
DTSTART:20260424
SUMMARY:Burial
DESCRIPTION:
URL:https://www.weathersbeerayfh.com/obituaries/barbara-phillips
LOCATION:    Roby TX 79543
GEO:32.7612979;-100.3733006
END:VEVENT
END:VCALENDAR