BEGIN:VCALENDAR
VERSION:2.0
PRODID:-//Tukios.com/
BEGIN:VEVENT
UID:a751a7c2-a165-4c0e-af39-eaaf128181a9@www.weathersbeerayfh.com
DTSTAMP:20260421T173328Z
DTSTART:20260423T180000Z
DTEND:20260423T190000Z
SUMMARY:Visitation
DESCRIPTION:
URL:https://www.weathersbeerayfh.com/obituaries/zelma-arthur
LOCATION:    Jayton TX 79528
GEO:33.2481485;-100.5737264
END:VEVENT
END:VCALENDAR