BEGIN:VCALENDAR
VERSION:2.0
PRODID:-//Tukios.com/
BEGIN:VEVENT
UID:0e3cebe7-20e2-4d7f-ae9c-b2ec4aefd4a5@www.weathersbeerayfh.com
DTSTAMP:20260421T174000Z
DTSTART:20260423T190000Z
DTEND:20260423T200000Z
SUMMARY:Funeral Service
DESCRIPTION:
URL:https://www.weathersbeerayfh.com/obituaries/zelma-arthur
LOCATION:    Jayton TX 79528
GEO:33.2481485;-100.5737264
END:VEVENT
END:VCALENDAR