BEGIN:VCALENDAR
VERSION:2.0
PRODID:-//Tukios.com/
BEGIN:VEVENT
UID:9124fe13-2eb9-4438-890e-ff6a4f151354@www.weathersbeerayfh.com
DTSTAMP:20260421T173840Z
DTSTART:20260423
SUMMARY:Burial
DESCRIPTION:
URL:https://www.weathersbeerayfh.com/obituaries/zelma-arthur
LOCATION:    Jayton TX 79528
GEO:33.2481485;-100.5737264
END:VEVENT
END:VCALENDAR